BEGIN:VCALENDAR
VERSION:2.0
PRODID:-//wp-events-plugin.com//7.2.3.1//EN
TZID:Europe/Berlin
X-WR-TIMEZONE:Europe/Berlin
BEGIN:VEVENT
UID:65@engagiertegemeinde.de
DTSTART;TZID=Europe/Berlin:20251030T190000
DTEND;TZID=Europe/Berlin:20251030T210000
DTSTAMP:20251030T171147Z
URL:https://www.engagiertegemeinde.de/Veranstaltungen/in-planung-pizza-tie
 fgang-gespraech-wieso-engagierte-gute-fuehrungsarbeit-erwarten/
SUMMARY:ABGESAGT: Pizza & Tiefgang-Gespräch "Wie(so) Engagierte gute Führ
 ungsarbeit erwarten"
DESCRIPTION:Führung ist anders als "Chef spielen"\, Führung ist zudem meh
 r als Leitung - auch wenn's oft anders gelebt wird. Wie kann ich andere Me
 nschen führen - auch ohne Geld und andere Formen von Bestechung? Was brau
 cht's\, damit ich meiner Führungs-Verantwortung gerecht werde? Und anders
 herum: Wie bekomme ich die gute Führungsarbeit\, die ich für meine gute 
 (ehrenamtliche) Arbeit brauche?\nVorbereitungsblatt → hier\nIn diesem Ge
 spräch bei einer Pizza erfährst Du\, wie Du mit "Situativer Führung" an
 deren Menschen helfen kannst\, über sich hinauswachsen: sei dabei! Herzli
 che Einladung!\n\nDamit wir gut vorbereiten können\, bitte gleich anmelde
 n:
ATTACH;FMTTYPE=image/jpeg:https://www.engagiertegemeinde.de/wp-content/upl
 oads/2025/02/pizza-3007395-scaled.jpg
LOCATION:Katholisches EngagementBüro Winnenden\, Turmstrasse 19 \, Winnend
 en\, Deutschland
X-APPLE-STRUCTURED-LOCATION;VALUE=URI;X-ADDRESS=Turmstrasse 19 \, Winnenden
 \, Deutschland;X-APPLE-RADIUS=100;X-TITLE=Katholisches EngagementBüro Win
 nenden:geo:0,0
END:VEVENT
BEGIN:VTIMEZONE
TZID:Europe/Berlin
X-LIC-LOCATION:Europe/Berlin
BEGIN:STANDARD
DTSTART:20251026T020000
TZOFFSETFROM:+0200
TZOFFSETTO:+0100
TZNAME:CET
END:STANDARD
END:VTIMEZONE
END:VCALENDAR