BEGIN:VCALENDAR
VERSION:2.0
PRODID:-//wp-events-plugin.com//7.2.3.1//EN
TZID:Europe/Berlin
X-WR-TIMEZONE:Europe/Berlin
BEGIN:VEVENT
UID:18@engagiertegemeinde.de
DTSTART;TZID=Europe/Berlin:20250215T090000
DTEND;TZID=Europe/Berlin:20250215T130000
DTSTAMP:20250211T102031Z
URL:https://www.engagiertegemeinde.de/Veranstaltungen/kompaktklausur-fuer-
 mitglieder-des-kirchengemeinderats-schwaikheim-rueckschau-2020-bis-2025/
SUMMARY:Kompaktklausur für Mitglieder des Kirchengemeinderats Schwaikheim:
  Rückschau 2020 bis 2025
DESCRIPTION:Ansprechperson: Jens Flammann\n\nFünf Jahre voller Entscheidun
 gen\, auch mit knifflige Diskussionen liegen hinter den Kirchengemeinderä
 tinnen und Kirchengemeinderäten:\n\n 	Was ist geglückt\, was konnten wir
  bewirken?\n 	Was hätte anders laufen können\, welche Erfahrungen nehmen
  wir mit?\n 	Und welche guten Wünsche geben wir den Mitgliedern des Kirch
 engemeinderates 2025 bis 2030 mit auf den Weg?\n\nUnter Moderation von Eng
 agementFörderer Jens Flammann halten wir Rückschau auf die vergangenen J
 ahre. Auf 12:00 Uhr ist mit einem Imbiss zu rechnen.\n\nDamit wir gut für
  Dich vorbereiten können\, bitte hier anmelden:
ATTACH;FMTTYPE=image/jpeg:https://www.engagiertegemeinde.de/wp-content/upl
 oads/2025/01/Quadrat-weinrot.jpg
LOCATION:Gemeindezentrum St. Jakobus Leutenbach\, Richard-Wagner-Str. 23\, 
 Leutenbach\, 71397 \, Deutschland
X-APPLE-STRUCTURED-LOCATION;VALUE=URI;X-ADDRESS=Richard-Wagner-Str. 23\, Le
 utenbach\, 71397 \, Deutschland;X-APPLE-RADIUS=100;X-TITLE=Gemeindezentrum
  St. Jakobus Leutenbach:geo:0,0
END:VEVENT
BEGIN:VTIMEZONE
TZID:Europe/Berlin
X-LIC-LOCATION:Europe/Berlin
BEGIN:STANDARD
DTSTART:20241027T020000
TZOFFSETFROM:+0200
TZOFFSETTO:+0100
TZNAME:CET
END:STANDARD
END:VTIMEZONE
END:VCALENDAR