BEGIN:VCALENDAR
VERSION:2.0
PRODID:-//wp-events-plugin.com//7.2.3.1//EN
TZID:Europe/Berlin
X-WR-TIMEZONE:Europe/Berlin
BEGIN:VEVENT
UID:120@engagiertegemeinde.de
DTSTART;TZID=Europe/Berlin:20251114T170000
DTEND;TZID=Europe/Berlin:20251114T190000
DTSTAMP:20251114T064856Z
URL:https://www.engagiertegemeinde.de/Veranstaltungen/pizza-gespraech-kick
 -off-wie-unsere-webseiten-die-leute-anlocken-i/
SUMMARY:FÄLLT AUS: Pizza-Gespräch "Kick off: Wie unsere Webseiten die Leu
 te anlocken" (I)
DESCRIPTION:Ansprechpersonen: Heiko Wolkenstein / Jens Flammann\nTerminalte
 rnativen: jeweils zwei Stunden am\n\n 	Freitag\, 14. November 2025\, zwis
 chen 16:00 und 21:00 Uhr oder\n 	Samstag\, 15. November 2025\, zwischen 14
 :00 und 28:00 Uhr\n\n\nWie stellen wir auch die technische Basis unserer W
 ebseiten auf zukunftssichere Füße (aktuelles CMS-System)? Wie gestalten 
 wir unsere Webseiten so\, dass die Leute diese gerne nutzen? Und wer kann 
 zu diesem "dicken Brett" was beitragen? Mit diesem Kick off-Treffen starte
 n wir ein Projekt\, das wir im Jahr 2026 abschließen wollen: attraktive W
 ebseiten\, die möglichst vielen Menschen ihr Engagement erleichtert.\n\nU
 m gute Gespräche und Ergebnisse zu erzielen\, ist die Teilnehmendenzahl b
 egrenzt. Damit wir alle Plätze ausschöpfen (und nicht durch kurzfristige
  Absagen "verschwenden")\, bitte mit Umsicht anmelden! Ideal wäre\, wenn 
 Teilnehmende mit ihrem Engagement dazu beitragen\, dass attraktive Angebot
 e der katholischen Gemeinden über Webseiten bekannter werden.\n\nIn diese
 m Gespräch bei einer Pizza überlegst Du mit\, wie unsere Webseiten die L
 eute anlocken: Sei dabei! Herzliche Einladung!
ATTACH;FMTTYPE=image/jpeg:https://www.engagiertegemeinde.de/wp-content/upl
 oads/2025/02/pizza-3007395-scaled.jpg
LOCATION:Katholisches EngagementBüro Winnenden\, Turmstrasse 19 \, Winnend
 en\, Deutschland
X-APPLE-STRUCTURED-LOCATION;VALUE=URI;X-ADDRESS=Turmstrasse 19 \, Winnenden
 \, Deutschland;X-APPLE-RADIUS=100;X-TITLE=Katholisches EngagementBüro Win
 nenden:geo:0,0
END:VEVENT
BEGIN:VTIMEZONE
TZID:Europe/Berlin
X-LIC-LOCATION:Europe/Berlin
BEGIN:STANDARD
DTSTART:20251026T020000
TZOFFSETFROM:+0200
TZOFFSETTO:+0100
TZNAME:CET
END:STANDARD
END:VTIMEZONE
END:VCALENDAR