BEGIN:VCALENDAR
VERSION:2.0
PRODID:-//wp-events-plugin.com//7.2.3.1//EN
TZID:Europe/Berlin
X-WR-TIMEZONE:Europe/Berlin
BEGIN:VEVENT
UID:87@engagiertegemeinde.de
DTSTART;TZID=Europe/Berlin:20260312T190000
DTEND;TZID=Europe/Berlin:20260312T203000
DTSTAMP:20260304T204652Z
URL:https://www.engagiertegemeinde.de/Veranstaltungen/pizza-tiefgang-gespr
 aech-woran-ich-das-richtige-engagementfeld-fuer-mich-erkenne-2/
SUMMARY:VERLEGT AUF JUNI: Pizza & Tiefgang-Gespräch "Woran ich das richtig
 e Engagementfeld für mich erkenne"
DESCRIPTION:Ins Licht sollte man nur Pflanzen stellen\, die Licht mögen. E
 benso ist es auch bei ehrenamtlichen Aufgaben: Wer mit Menschen zu tun hab
 en möchte\, blüht in einem entsprechenden Engagement auf. Für andere si
 nd andere Aufgaben erfüllender!\n\nIn diesem Gespräch bei einer Pizza er
 fährst Du\, woran Du das richtige Engagementfeld für Dich erkennst: sei 
 dabei! Herzliche Einladung!
ATTACH;FMTTYPE=image/jpeg:https://www.engagiertegemeinde.de/wp-content/upl
 oads/2025/02/pizza-3007395-scaled.jpg
LOCATION:Katholisches EngagementBüro Winnenden\, Turmstrasse 19 \, Winnend
 en\, Deutschland
X-APPLE-STRUCTURED-LOCATION;VALUE=URI;X-ADDRESS=Turmstrasse 19 \, Winnenden
 \, Deutschland;X-APPLE-RADIUS=100;X-TITLE=Katholisches EngagementBüro Win
 nenden:geo:0,0
END:VEVENT
BEGIN:VTIMEZONE
TZID:Europe/Berlin
X-LIC-LOCATION:Europe/Berlin
BEGIN:STANDARD
DTSTART:20251026T020000
TZOFFSETFROM:+0200
TZOFFSETTO:+0100
TZNAME:CET
END:STANDARD
END:VTIMEZONE
END:VCALENDAR