BEGIN:VCALENDAR
VERSION:2.0
PRODID:-//wp-events-plugin.com//7.2.3.1//EN
TZID:Europe/Berlin
X-WR-TIMEZONE:Europe/Berlin
BEGIN:VEVENT
UID:69@engagiertegemeinde.de
DTSTART;TZID=Europe/Berlin;VALUE=DATE:20261004
DTEND;TZID=Europe/Berlin;VALUE=DATE:20261109
DTSTAMP:20251105T061909Z
URL:https://www.engagiertegemeinde.de/Veranstaltungen/tage-des-engagements
 -dankbar-zurueckblicken-staffelstab-weitergeben/
SUMMARY:IN PLANUNG: Tage des Engagements "Dankbar zurückblicken – Staffe
 lstab weitergeben"
DESCRIPTION:Ansprechperson: Jens Flammann\nVorschlag für Angebote einreich
 en → hier\nAktueller Planungsstand → www.EngagementTage.de\n\nWer sich
  ehrenamtlich engagiert\, profitiert selbst davon: anderen Menschen begegn
 en\, neue Einsichten gewinnen\, Spuren hinterlassen. Oft gerät diese Eins
 icht im Engagement-Trubel unter die Räder. Deswegen laden wir "Alte Engag
 ement-Hasen" zum Einen dazu ein\, (selbst)kritisch zu reflektieren und dan
 kbar zurückzublicken. Das kommt nicht nebenbei\, sondern braucht Zeit.\n\
 nGleichzeitig laden wir die "Alten Engagement-Hasen" dazu ein\, den Staffe
 lstab ihrer Erlebnisse\, Eindrücke und Erfahrungen weiterzugeben an "Jung
 e Engagement-Hüpfer" - auch damit der Erfahrungsschatz weiterhin fruchtba
 r wirkt.\n\nIm Miteinander von "Hasen und Hüpfern" wird so manche Einsich
 t vertieft werden\, von der alle profitieren können.\n\nGeplanter Ablauf:
 \n\n 	Start bei einem Mitmach-Gottesdienst an / um Erntedank\n 	Abschluss 
 bei einem Staffelstab-Gottesdienst vor / an St. Martin\n 	An den Tage dazw
 ischen individuell abgestimmte Begegnungen zwischen "Alten Engagement-Hase
 n" und "Jungen Engagement-Hüpfern"\, in denen diese gemeinsam Engagementf
 elder erkunden können. Dieser Erfahrungsaustausch dient auch als Grundlag
 e für den Staffelstab-Gottesdienst.\n\nDamit wir gut für Sie vorbereiten
  können\, bitte anmelden:\n\n&nbsp\;\n\n&nbsp\;
ATTACH;FMTTYPE=image/jpeg:https://www.engagiertegemeinde.de/wp-content/upl
 oads/2025/01/Drei-Aspekte-von-Engagement-JFl20241004.png
LOCATION:Gemeindezentrum St. Maria Schwaikheim\, Schwaikheim\, Schwaikheim\
 , Deutschland
X-APPLE-STRUCTURED-LOCATION;VALUE=URI;X-ADDRESS=Schwaikheim\, Schwaikheim\,
  Deutschland;X-APPLE-RADIUS=100;X-TITLE=Gemeindezentrum St. Maria Schwaikh
 eim:geo:0,0
END:VEVENT
BEGIN:VTIMEZONE
TZID:Europe/Berlin
X-LIC-LOCATION:Europe/Berlin
BEGIN:DAYLIGHT
DTSTART:20260329T030000
TZOFFSETFROM:+0100
TZOFFSETTO:+0200
TZNAME:CEST
END:DAYLIGHT
BEGIN:STANDARD
DTSTART:20261025T020000
TZOFFSETFROM:+0200
TZOFFSETTO:+0100
TZNAME:CET
END:STANDARD
END:VTIMEZONE
END:VCALENDAR